Workbook

Sheet Cover
A7: Professional Fee Calculator – Architectural Service
F9: Version 2024(B)
A11: Professional Fee Calculator
F12: Enter date below
E13: Date : | F13: 45483
C16: Insert description of Project below
B17: Project
C18: Insert address of Project below
B19: Address
A22: Professional Fee Calculator designed to facilitate with the calculation of Professional Fees for Architectural Services rendered for projects as contemplated by the Architectural Professions Act, Act No 44 of 2000 and the National Building Regulations and Building Standards Act, Act No 107 of 1977.
A25: Tariff of Fee in terms of Board Notice 672 of 2024.
A27: Changes / Updates (Nov.2025):
A28: i. User defined “Additional Services” function included in the “Task Time Based Services” tab.
A29: ii. “Per square metre” rate calculation added per fee determination option.
A31: Improvements:
A32: Should you have any suggestion to improvement the Architectural Fee Calculator please contact the author as indicated in the “Disclaimer” tab.

Sheet Task Time Based Service
A1: Professional Fees – Architectural Service | AB1: Hrs.Work/Yr @ 7Hrs/Day | AC1: Software cost/hr | AD1: Stage List | AE1: SACAP Rates | AG1: %of Cost
AB2: =L15*M15*52 -> 1820 | AC2: =N11/AB2 -> 0 | AD2: -------- | AE2: ----- | AG2: 10 | AH2: 3
F3: =Cover!F13 -> 45483 | AD3: YES | AE3: Specialist | AF3: ='SACAP Prof.Rate'!B3 -> 3313 | AG3: 20 | AH3: 22
A4: Task Time Based Fee : SACAP Calculated Rate | AD4: NO | AE4: >10yrs experience | AF4: ='SACAP Prof.Rate'!B4 -> 2663 | AG4: 65 | AH4: 30
AE5: <10yrs experience | AF5: ='SACAP Prof.Rate'!B5 -> 1991 | AG5: 5 | AH5: 45
A6: The Task Time Based Fee calculator is an alternative to the Fee Rate per Square Metre methodology. [To determine the equivalent per square metre rate enter the Building Area of the proposal under USER Input variables.] | L6: Standard USER Input Variables | AE6: Associate | AF6: ='SACAP Prof.Rate'!B6 -> 1420 | AG6: =SUM(AG2:AG5) -> 100 | AH6: =SUM(AH2:AH5) -> 100
A7: Step 1. Enter the Standard USER Input Variables applicable for your architectural practice | AE7: Manager | AF7: ='SACAP Prof.Rate'!B7 -> 1420
A8: Step 2. For each Task allocate a time in hours or hour fraction and number of persons performing the task, select the professional undertaking the task and under “Required” select whether the task is applicable. | L8: Enter monetary values in respect of the known costs / values associated | AE8: Reg.Arch.Prof. w/Direct Responsibility | AF8: ='SACAP Prof.Rate'!B8 -> 960
A9: Step 3. Enter the Distance to Site from the place of work as a singular / one-way trip ONLY, NOT return, and costs for external services, as required. | L9: with the items required to provide the service. | AE9: Reg.Arch.Prof. no Direct Responsibility | AF9: ='SACAP Prof.Rate'!B9 -> 571
L10: Print/Scan Cost (R) | M10: Travel Cost / km (R) | N10: Equip. / Software Value (R) | AE10: Staff in Support of Arch.Work Output | AF10: ='SACAP Prof.Rate'!B10 -> 408
A11: Stage 1: Inception | D11: Allotted Hrs | E11: No. of Person | F11: Professional | G11: Distance / Reimb.Cost | H11: Required | I11: SACAP Rate (R) | J11: Cost Assigned | L11: 0 | M11: 0 | N11: 0 | W11: Admin | Y11: Consult
W12: Hr | X12: Cost | Y12: Hr | Z12: Cost
A13: a | B13: Receive enquiry | I13: =IF(H13=AD$3,IFERROR(INDEX($AE$2:$AF$10,MATCH(F13,$AE$2:$AE$10,0),2),""),"") | J13: =IFERROR(IF(H13=AD$3,D13*E13*I13,0),0) -> 0 | L13: Enter number of hours worked per day and the number of working days per week. | W13: =IF($H13=$AD$3,$D13,0) -> 0 | X13: =IF($H13=$AD$3,$J13,0) -> 0
A14: b | B14: Conduct prelim. background search | F14: ----- | H14: -------- | I14: =IF(H14=AD$3,IFERROR(INDEX($AE$2:$AF$10,MATCH(F14,$AE$2:$AE$10,0),2),""),"") | J14: =IFERROR(IF(H14=AD$3,D14*E14*I14,0),0) -> 0 | L14: Work Hrs / Day | M14: Work Day/ Week | W14: =IF($H14=$AD$3,$D14,0) -> 0 | X14: =IF($H14=$AD$3,$J14,0) -> 0
A15: c | B15: Conduct initial consult / briefing with client | F15: ----- | H15: -------- | I15: =IF(H15=AD$3,IFERROR(INDEX($AE$2:$AF$10,MATCH(F15,$AE$2:$AE$10,0),2),""),"") | J15: =IFERROR(IF(H15=AD$3,D15*E15*I15,0),0) -> 0 | L15: 7 | M15: 5 | Y15: =IF(AND($H15=$AD$3,$F15<>$AE$10),$D15,0) -> 0 | Z15: =IF(AND($H15=$AD$3,$F15<>$AE$10),$J15,0) -> 0
B16: Distance to site | H16: -------- | J16: =IF(H16=AD$3,G16*2*M$11,0) -> 0
A17: d | B17: Prepare doc’s for archive research | F17: ----- | H17: -------- | I17: =IF(H17=AD$3,IFERROR(INDEX($AE$2:$AF$10,MATCH(F17,$AE$2:$AE$10,0),2),""),"") | J17: =IF(H17=AD$3,D17*E17*I17,0) -> 0 | L17: Enter the Profit Margin % value to be applied to the Project, and | W17: =IF($H17=$AD$3,$D17,0) -> 0 | X17: =IF($H17=$AD$3,$J17,0) -> 0
A18: e | B18: Conduct archive records search | F18: ----- | H18: -------- | I18: =IF(H18=AD$3,IFERROR(INDEX($AE$2:$AF$10,MATCH(F18,$AE$2:$AE$10,0),2),""),"") | J18: =IF(H18=AD$3,D18*E18*I18,0) -> 0 | L18: Profit Margin (%) | W18: =IF($H18=$AD$3,$D18,0) -> 0 | X18: =IF($H18=$AD$3,$J18,0) -> 0
B19: Cost of archive records | H19: -------- | J19: =IF(H19=AD$3,G19,0) -> 0 | L19: 0
B20: Municipal offices | C20: -------- | G20: =INDEX($M$35:$N$65,MATCH(C20,$M$35:$M$65,0),2) -> 0 | H20: -------- | J20: =IF(H20=AD$3,G20*2*M$11,0) -> 0
A21: f | B21: Scan/Print available archive records | F21: ----- | H21: -------- | I21: =IF(H21=AD$3,IFERROR(INDEX($AE$2:$AF$10,MATCH(F21,$AE$2:$AE$10,0),2),""),"") | J21: =IF(H21=AD$3,D21*E21*I21,0) -> 0 | L21: Enter the Discount % value where a discounted service is being offered. | W21: =IF($H21=$AD$3,$D21,0) -> 0 | X21: =IF($H21=$AD$3,$J21,0) -> 0
B22: Print shop | C22: -------- | G22: =INDEX($M$35:$N$65,MATCH(C22,$M$35:$M$65,0),2) -> 0 | H22: -------- | J22: =IF(H22=AD$3,G22*2*M$11,0) -> 0 | L22: Discount Offered (%)
B23: Cost of archive record scanning/printing | H23: -------- | J23: =IF(H23=AD$3,G23,0) -> 0 | L23: 0
A24: g | B24: Research Planning / Heritage req’s/constraints | F24: ----- | H24: -------- | I24: =IF(H24=AD$3,IFERROR(INDEX($AE$2:$AF$10,MATCH(F24,$AE$2:$AE$10,0),2),""),"") | J24: =IF(H24=AD$3,D24*E24*I24,0) -> 0 | W24: =IF($H24=$AD$3,$D24,0) -> 0 | X24: =IF($H24=$AD$3,$J24,0) -> 0
A25: h | B25: Prepare Contract / Quote based on prelim. research | F25: ----- | H25: -------- | I25: =IF(H25=AD$3,IFERROR(INDEX($AE$2:$AF$10,MATCH(F25,$AE$2:$AE$10,0),2),""),"") | J25: =IF(H25=AD$3,D25*E25*I25,0) -> 0 | L25: Select the VAT Rate applicable where fees raised are inclusive of VAT. | W25: =IF($H25=$AD$3,$D25,0) -> 0 | X25: =IF($H25=$AD$3,$J25,0) -> 0
B26: Sub-Total Admin (Hrs) | D26: =IFERROR(W26,0) -> 0 | H26: Sub-Total Print/Scan (R) | J26: =IFERROR(J19+J23,0) -> 0 | L26: VAT Rate % | W26: =SUM(W13:W25) -> 0 | X26: =SUM(X13:X25) -> 0 | Y26: =SUM(Y13:Y25) -> 0 | Z26: =SUM(Z13:Z25) -> 0
B27: Sub-Total (Hrs) | D27: =SUM(D26) -> 0 | H27: Sub-Total Travel (R) | J27: =IFERROR(J16+J20+J22,0) -> 0 | L27: 15
H28: Sub-Total Admin (R) | J28: =IFERROR(X26,0) -> 0
H29: Sub-Total Consult (R) | J29: =IFERROR(Z26,0) -> 0 | L29: Enter Destinations frequently travelled to from the place of work to do business, ie:
H30: Sub-Total (R) | J30: =SUM(J26:J29) -> 0 | L30: municipal and heritage offices, print & scanning facilities, post offices.
L31: Distances entered must be for a single journey only. For calculations a round trip is
A32: Stage 2: Concept and viability (concept design) | D32: Allotted Hrs | E32: No. of Person | F32: Professional | G32: Distance / Reimb.Cost | H32: Required | I32: SACAP Rate (R) | J32: Cost Assigned | L32: automatically accounted for. | W32: Admin | Y32: Prelim | AA32: Sketch Design | AE32: Equipment / Software Cost
L33: Travel Distances – One Way | W33: Hr | X33: Cost | Y33: Hr | Z33: Cost | AA33: Hr | AB33: Cost | AE33: Hr
A34: a | B34: Prepare prelim. as-built/archive drawing | F34: ----- | H34: -------- | I34: =IF(H34=AD$3,IFERROR(INDEX($AE$2:$AF$10,MATCH(F34,$AE$2:$AE$10,0),2),""),"") | J34: =IF(H34=AD$3,D34*E34*I34,0) -> 0 | M34: Destination | N34: Km | Y34: =IF($H34=$AD$3,$D34,0) -> 0 | Z34: =IF($H34=$AD$3,$J34,0) -> 0 | AE34: =IF($H34=$AD$3,$D34,0) -> 0
A35: b | B35: Print prelim. as-built / archive drawing | F35: ----- | H35: -------- | I35: =IF(H35=AD$3,IFERROR(INDEX($AE$2:$AF$10,MATCH(F35,$AE$2:$AE$10,0),2),""),"") | J35: =IF(H35=AD$3,D35*E35*I35,0) -> 0 | L35: # | M35: -------- | N35: 0 | W35: =IF($H35=$AD$3,$D35,0) -> 0 | X35: =IF($H35=$AD$3,$J35,0) -> 0
B36: Print shop | C36: -------- | G36: =INDEX($M$35:$N$65,MATCH(C36,$M$35:$M$65,0),2) -> 0 | H36: -------- | J36: =IF(H36=AD$3,G36*2*M$11,0) -> 0 | L36: 1
B37: Cost of prelim. as-built / archive printing | H37: -------- | J37: =IF(H37=AD$3,G37,0) -> 0 | L37: 2
A38: c | B38: Conduct site visit to measure up/confirm as-built record | F38: ----- | H38: -------- | I38: =IF(H38=AD$3,IFERROR(INDEX($AE$2:$AF$10,MATCH(F38,$AE$2:$AE$10,0),2),""),"") | J38: =IF(H38=AD$3,D38*E38*I38,0) -> 0 | L38: 3 | Y38: =IF($H38=$AD$3,$D38,0) -> 0 | Z38: =IF($H38=$AD$3,$J38,0) -> 0
B39: Distance to site | G39: =IF(OR(G$16="",G$16=0),0,G$16) -> 0 | H39: -------- | J39: =IF(H39=AD$3,G39*2*M$11,0) -> 0 | L39: 4
A40: d | B40: Update prelim. as-built/archive drawing | F40: ----- | H40: -------- | I40: =IF(H40=AD$3,IFERROR(INDEX($AE$2:$AF$10,MATCH(F40,$AE$2:$AE$10,0),2),""),"") | J40: =IF(H40=AD$3,D40*E40*I40,0) -> 0 | L40: 5 | Y40: =IF($H40=$AD$3,$D40,0) -> 0 | Z40: =IF($H40=$AD$3,$J40,0) -> 0 | AE40: =IF($H40=$AD$3,$D40,0) -> 0
...

Sheet Task Time Based Fees
B3: Insert logo
A11: Professional Fees – Architectural Service
D13: =Cover!F13 -> 45483
A15: Project | B15: =IF(Cover!C17="","",Cover!C17)
A17: Address | B17: =IF(Cover!C19="","",Cover!C19)
B20: Work Stages | C20: Fees
A22: Stage 1. Inception : R | C22: ='Task Time Based Service'!J242 -> 0
A23: Stage 2. Concept & Viability : R | C23: ='Task Time Based Service'!J243 -> 0
A24: Stage 3. Design Development : R | C24: ='Task Time Based Service'!J244 -> 0
A25: Stage 4. L/A Drawing & Submission : R | C25: ='Task Time Based Service'!J245 -> 0
A26: Admin. : R | C26: ='Task Time Based Service'!J246 -> 0
A27: Print/Scan/Post/Adverts : R | C27: ='Task Time Based Service'!J247 -> 0
A28: Travel : R | C28: ='Task Time Based Service'!J248 -> 0
B29: Sub. Total : R | C29: =SUM(C22:C28) -> 0 | D29: excl. VAT
B31: Additional Services | C31: Fees
A32: Additional Services : R | C32: ='Task Time Based Service'!J252 -> 0
A33: Heritage App. : R | C33: ='Task Time Based Service'!J253 -> 0
B34: Sub. Total : R | C34: =SUM(C32:C33) -> 0 | D34: excl. VAT
B36: Sub. Total : R | C36: =SUM(C29,C34) -> 0 | D36: excl. VAT
B37: Discount : R | C37: =C36*'Task Time Based Service'!L23 -> 0 | D37: =IF(OR('Task Time Based Service'!L23="",'Task Time Based Service'!L23=0),"",CONCATENATE(" @ ",'Task Time Based Service'!L23*100," %"))
B38: Sub. Total : R | C38: =C36-C37 -> 0 | D38: excl. VAT
B39: VAT : R | C39: =IFERROR(C38*'Task Time Based Service'!L27%,0) -> 0 | D39: =_xlfn.CONCAT(" @ ",'Task Time Based Service'!L27," %") -> @ 15 %
B40: TOTAL : R | C40: =C38+C39 -> 0
A44: =Disclaimer!A7 -> Copyright © 2025 - M. Keuter - Some Rights Reserved

Sheet Task Time Based Fees_(Per Sqm)
B3: Insert logo
A11: Professional Fees – Architectural Service
D13: =Cover!F13 -> 45483
A15: Project | B15: =IF(Cover!C17="","",Cover!C17)
A17: Address | B17: =IF(Cover!C19="","",Cover!C19)
B20: Work Stages | C20: Rate / Sqm
A22: Stage 1. Inception : R | C22: =IFERROR('Task Time Based Service'!J242/'Task Time Based Service'!$L$122,0) -> 0
A23: Stage 2. Concept & Viability : R | C23: =IFERROR('Task Time Based Service'!J243/'Task Time Based Service'!$L$122,0) -> 0
A24: Stage 3. Design Development : R | C24: =IFERROR('Task Time Based Service'!J244/'Task Time Based Service'!$L$122,0) -> 0
A25: Stage 4. L/A Drawing & Submission : R | C25: =IFERROR('Task Time Based Service'!J245/'Task Time Based Service'!$L$122,0) -> 0
A26: Admin. : R | C26: =IFERROR('Task Time Based Service'!J246/'Task Time Based Service'!$L$122,0) -> 0
A27: Print/Scan/Post/Adverts : R | C27: =IFERROR('Task Time Based Service'!J247/'Task Time Based Service'!$L$122,0) -> 0
A28: Travel : R | C28: =IFERROR('Task Time Based Service'!J248/'Task Time Based Service'!$L$122,0) -> 0
B29: Sub. Total : R | C29: =IFERROR('Task Time Based Service'!J249/'Task Time Based Service'!$L$122,0) -> 0 | D29: excl. VAT
B31: Additional Services | C31: Fees
A32: Additional Services : R | C32: =IFERROR('Task Time Based Service'!J252/'Task Time Based Service'!$L$122,0) -> 0
A33: Heritage App. : R | C33: =IFERROR('Task Time Based Service'!J253/'Task Time Based Service'!$L$122,0) -> 0
B34: Sub. Total : R | C34: =SUM(C32:C33) -> 0 | D34: excl. VAT
B36: Sub. Total : R | C36: =SUM(C29,C34) -> 0 | D36: excl. VAT
B37: Discount : R | C37: =IFERROR(C36*'Task Time Based Service'!L23,0) -> 0 | D37: =IF(OR('Task Time Based Service'!L23="",'Task Time Based Service'!L23=0),"",CONCATENATE(" @ ",'Task Time Based Service'!L23*100," %"))
B38: Sub. Total : R | C38: =C36-C37 -> 0 | D38: excl. VAT
B39: VAT : R | C39: =IFERROR(C38*'Task Time Based Service'!L27%,0) -> 0 | D39: =_xlfn.CONCAT(" @ ",'Task Time Based Service'!L27," %") -> @ 15 %
B40: TOTAL : R | C40: =C38+C39 -> 0
A44: =Disclaimer!A7 -> Copyright © 2025 - M. Keuter - Some Rights Reserved

Sheet Cost Based Service Req.
A1: Professional Fees – Architectural Service | L1: Stage List
L2: --------
I3: =Cover!F13 -> 45483 | L3: Yes
A4: Project Cost Based Fee | L4: No
A6: Select the category of complexity applicable to the project type for which professional services are required.
B7: Complexity of Project :
B9: Project Budget : R | E9: excl. VAT
A11: Select the VAT Rate applicable where fees raised are inclusive of VAT.
B12: VAT Rate : | C12: 15 | D12: %
A14: Enter the discounted % value where a discounted service is being offered.
A15: Discount Offered : | C15: 0
A17: Insert % of the Project that is deemed to be Alterations (not new work) or an extension of interface with the existing building where work is deemed to be an Addition.
A18: Fee is adjusted by 30% for the percentage of work being Alterations / Interfacing Work.
A19: % of Work as Alterations / Interfacing Work : | C19: 0
A21: Select 'YES' or 'NO' to ensure the correct % value is calculated for work stages 5 & 6.
A22: Where 'NO' is selected fee for works stages 5 & 6 is reduced by 10%.
A23: Building Restoration – Heritage legislation : | C23: --------
A25: Insert % of the Project that is deemed to be Heritage Restoration work (not new work).
A26: % of Work as Heritage Restoration : | C26: 0
A28: Select 'YES' or 'NO' to ensure the correct % value is calculated for work stages 1 - 4.
A29: Where 'NO' is selected fee for works stages 1 – 4 is reduced by 10%.
A30: Principal Consultant : | C30: --------
A32: Select 'YES' or 'NO' to ensure the correct % value is calculated for work stages 5 & 6.
A33: Where 'NO' is selected fee for works stages 5 & 6 is reduced by 10%.
A34: Principal Agent : | C34: --------
A36: Identify whether the building is a prototypical design to be repeated a number of times.
B37: Prototypical Design : | C37: --------
A39: Indicate the number of times the prototypical design is the be repeated as a new building.
B40: No. of Prototypical Design Repeats : | C40: 0
A42: Indicate the Total Area of the proposed building(s) associated with the project. [Required ONLY for determining a per square metre rate associated with the project.]
B43: Total Building Area (m²) : | C43: 0
A45: Work to be Undertaken per Work Stages
A46: 1. Set the weighting associated with each Work Category within the Work Stage. The weighting total within the “Weighted % of Wk/Stage” (col. C) to equal 100%.
A47: 2. Select the percentage of service per Work Category per Work Stage to be undertaken by the Architectural Professional (col. D)
A48: 3. Select the percentage of service per Work Category per Work Stage to be undertaken by Other Built Environment Professionals, ie: Planner, Engineer, Surveyor,
A49: Quantity Surveyor, Project Manager, etc. (col. E)
A50: Stage 1: Inception | C50: Weighted % of Wk/Stage | D50: % Service to be provided by | F50: Service % by | H50: Wk/Stage % | I50: Service % by
D51: Arch/Prof | E51: Other | F51: Arch/Prof | G51: Other | H51: ='Data & Calc Sheet'!$B$45*100 -> 2 | I51: Arch/Prof | J51: Other
A52: a) | B52: Receive, appraise and report on the client's requirements with regard to the client's brief. | C52: 50 | D52: 100 | E52: ----- | F52: =IF(D52="-----",0,IF(OR(D52<>"-----",D52<>0),C52*D52/100,0)) -> 50 | G52: =IF(E52="-----",0,IF(OR(E52<>"-----",E52<>0),C52*E52/100,0)) -> 0 | I52: =H$51*F52/100 -> 1 | J52: =H$51*G52/100 -> 0
A53: b) | B53: Determine the site and rights and constraints. | C53: 20 | D53: ----- | E53: ----- | F53: =IF(D53="-----",0,IF(OR(D53<>"-----",D53<>0),C53*D53/100,0)) -> 0 | G53: =IF(E53="-----",0,IF(OR(E53<>"-----",E53<>0),C53*E53/100,0)) -> 0 | I53: =H$51*F53/100 -> 0 | J53: =H$51*G53/100 -> 0
...

Sheet Cost Based Fee
B3: Insert logo
A11: Professional Fees – Architectural Service
D13: =Cover!F13 -> 45483
A15: Project | B15: =IF(Cover!C17="","",Cover!C17)
A17: Address | B17: =IF(Cover!C19="","",Cover!C19)
A19: Project Budget : R | C19: ='Cost Based Service Req.'!C9 -> 0 | D19: excl. VAT
A21: % of Work as Alterations / Interfacing Work : | C21: ='Cost Based Service Req.'!C19 -> 0
A23: Building Restoration – Heritage legislation : | C23: ='Cost Based Service Req.'!C23 -> --------
A24: % of Work as Heritage Restoration : | C24: ='Cost Based Service Req.'!C26 -> 0
A26: Principal Consultant : | C26: ='Cost Based Service Req.'!C30 -> --------
A27: Principal Agent : | C27: ='Cost Based Service Req.'!C34 -> --------
B29: Work Stages | C29: Fees
A32: Stage 1. Inception : R | C32: =IFERROR(IF('Data & Calc Sheet'!F45="YES",'Data & Calc Sheet'!J45,0),0) -> 0
A33: Stage 2. Concept & Viability : R | C33: =IFERROR(IF('Data & Calc Sheet'!F46="YES",'Data & Calc Sheet'!J46,0),0) -> 0
A34: Stage 3. Design Development : R | C34: =IFERROR(IF('Data & Calc Sheet'!F47="YES",'Data & Calc Sheet'!J47,0),0) -> 0
A35: Stage 4.1 Local Authority Submissions : R | C35: =IFERROR(IF('Data & Calc Sheet'!F48="YES",'Data & Calc Sheet'!J48,0),0) -> 0
A36: Stage 4.2 Call for Tenders : R | C36: =IFERROR(IF('Data & Calc Sheet'!F49="YES",'Data & Calc Sheet'!J49,0),0) -> 0
A37: Stage 5 Construction : R | C37: =IFERROR(IF('Data & Calc Sheet'!F50="YES",'Data & Calc Sheet'!J50,0),0) -> 0
A38: Stage 6. Close Out : R | C38: =IFERROR(IF('Data & Calc Sheet'!F51="YES",'Data & Calc Sheet'!J51,0),0) -> 0
B40: Sub-Total : R | C40: =SUM(C32:C38) -> 0 | D40: excl. VAT
B42: Additional Services
A44: Special Design Services : R | C44: =IFERROR(IF('Cost Based Service Req.'!I143<>"",'Cost Based Service Req.'!I143,0),0) -> 0
A45: Special Management Services : R | C45: =IFERROR(IF('Cost Based Service Req.'!I144<>"",'Cost Based Service Req.'!I144,0),0) -> 0
A46: Special Studies : R | C46: =IFERROR(IF('Cost Based Service Req.'!I145<>"",'Cost Based Service Req.'!I145,0),0) -> 0
A47: Special Submissions to Statutory Authorities : R | C47: =IFERROR(IF('Cost Based Service Req.'!I146<>"",'Cost Based Service Req.'!I146,0),0) -> 0
A48: Work on Existing Premises : R | C48: =IFERROR(IF('Cost Based Service Req.'!I147<>"",'Cost Based Service Req.'!I147,0),0) -> 0
A49: Other Services : R | C49: =IFERROR(IF('Cost Based Service Req.'!I148<>"",'Cost Based Service Req.'!I148,0),0) -> 0
B51: Sub-Total : R | C51: =SUM(C44:C49) -> 0 | D51: excl. VAT
B53: Sub-Total : R | C53: =SUM(C40,C51) -> 0 | D53: excl. VAT
B54: Discount : R | C54: =IFERROR(C53*'Cost Based Service Req.'!C15,0) -> 0
B55: Sub-Total : R | C55: =C53-C54 -> 0 | D55: excl. VAT
B56: VAT : R | C56: =IFERROR(C55*'Cost Based Service Req.'!C12%,0) -> 0 | D56: =_xlfn.CONCAT(" @ ",'Cost Based Service Req.'!C12," %") -> @ 15 %
B57: Total Fee : R | C57: =SUM(C55,C56) -> 0
A59: =Disclaimer!A7 -> Copyright © 2025 - M. Keuter - Some Rights Reserved

Sheet Cost Based Fee_Repeat
B3: Insert logo
A11: Professional Fees – Architectural Service
D13: =Cover!F13 -> 45483
A15: Project | B15: =IF(Cover!C17="","",Cover!C17)
A17: Address | B17: =IF(Cover!C19="","",Cover!C19)
A19: Project Budget : R | C19: ='Cost Based Service Req.'!C9 -> 0 | D19: excl. VAT
A21: % of Work as Alterations / Interfacing Work : | C21: ='Cost Based Service Req.'!C19 -> 0
A23: Building Restoration – Heritage legislation : | C23: ='Cost Based Service Req.'!C23 -> --------
A24: % of Work as Heritage Restoration : | C24: ='Cost Based Service Req.'!C26 -> 0
A26: Principal Consultant : | C26: ='Cost Based Service Req.'!C30 -> --------
A27: Principal Agent : | C27: ='Cost Based Service Req.'!C34 -> --------
B29: Work Stages | C29: Fee Apportionment
C31: Prototype Fee | D31: Fee / Repeat | E31: Repeat Fee
A32: Stage 1. Inception : R | C32: =IFERROR(IF('Data & Calc Sheet'!F45="YES",'Data & Calc Sheet'!J45,0),0) -> 0 | D32: =IFERROR(IF('Cost Based Service Req.'!C$37='Cost Based Service Req.'!L$3,'Data & Calc Sheet'!M45,""),0) | E32: =IFERROR(IF('Cost Based Service Req.'!C$37='Cost Based Service Req.'!L$3,'Data & Calc Sheet'!N45,""),)
A33: Stage 2. Concept & Viability : R | C33: =IFERROR(IF('Data & Calc Sheet'!F46="YES",'Data & Calc Sheet'!J46,0),0) -> 0 | D33: =IFERROR(IF('Cost Based Service Req.'!C$37='Cost Based Service Req.'!L$3,'Data & Calc Sheet'!M46,""),0) | E33: =IFERROR(IF('Cost Based Service Req.'!C$37='Cost Based Service Req.'!L$3,'Data & Calc Sheet'!N46,""),)
A34: Stage 3. Design Development : R | C34: =IFERROR(IF('Data & Calc Sheet'!F47="YES",'Data & Calc Sheet'!J47,0),0) -> 0 | D34: =IFERROR(IF('Cost Based Service Req.'!C$37='Cost Based Service Req.'!L$3,'Data & Calc Sheet'!M47,""),0) | E34: =IFERROR(IF('Cost Based Service Req.'!C$37='Cost Based Service Req.'!L$3,'Data & Calc Sheet'!N47,""),)
A35: Stage 4.1 Local Authority Submissions : R | C35: =IFERROR(IF('Data & Calc Sheet'!F48="YES",'Data & Calc Sheet'!J48,0),0) -> 0 | D35: =IFERROR(IF('Cost Based Service Req.'!C$37='Cost Based Service Req.'!L$3,'Data & Calc Sheet'!M48,""),0) | E35: =IFERROR(IF('Cost Based Service Req.'!C$37='Cost Based Service Req.'!L$3,'Data & Calc Sheet'!N48,""),)
A36: Stage 4.2 Call for Tenders : R | C36: =IFERROR(IF('Data & Calc Sheet'!F49="YES",'Data & Calc Sheet'!J49,0),0) -> 0 | D36: =IFERROR(IF('Cost Based Service Req.'!C$37='Cost Based Service Req.'!L$3,'Data & Calc Sheet'!M49,""),0) | E36: =IFERROR(IF('Cost Based Service Req.'!C$37='Cost Based Service Req.'!L$3,'Data & Calc Sheet'!N49,""),)
A37: Stage 5 Construction : R | C37: =IFERROR(IF('Data & Calc Sheet'!F50="YES",'Data & Calc Sheet'!J50,0),0) -> 0 | E37: =IFERROR(IF('Cost Based Service Req.'!C$37='Cost Based Service Req.'!L$3,'Data & Calc Sheet'!N50,""),)
A38: Stage 6. Close Out : R | C38: =IFERROR(IF('Data & Calc Sheet'!F51="YES",'Data & Calc Sheet'!J51,0),0) -> 0 | E38: =IFERROR(IF('Cost Based Service Req.'!C$37='Cost Based Service Req.'!L$3,'Data & Calc Sheet'!N51,""),)
B40: Sub-Total : R | C40: =SUM(C32:C38) -> 0 | E40: =IF('Cost Based Service Req.'!C$37='Cost Based Service Req.'!L$3,SUM(E32:E38),"")
B42: Sub-Total : R | C42: =SUM(C40,E40) -> 0 | D42: excl. VAT
B44: Additional Services
A46: Special Design Services : R | C46: =IFERROR(IF('Cost Based Service Req.'!I143<>"",'Cost Based Service Req.'!I143,0),0) -> 0
A47: Special Management Services : R | C47: =IFERROR(IF('Cost Based Service Req.'!I144<>"",'Cost Based Service Req.'!I144,0),0) -> 0
A48: Special Studies : R | C48: =IFERROR(IF('Cost Based Service Req.'!I145<>"",'Cost Based Service Req.'!I145,0),0) -> 0
A49: Special Submissions to Statutory Authorities : R | C49: =IFERROR(IF('Cost Based Service Req.'!I146<>"",'Cost Based Service Req.'!I146,0),0) -> 0
A50: Work on Existing Premises : R | C50: =IFERROR(IF('Cost Based Service Req.'!I147<>"",'Cost Based Service Req.'!I147,0),0) -> 0
A51: Other Services : R | C51: =IFERROR(IF('Cost Based Service Req.'!I148<>"",'Cost Based Service Req.'!I148,0),0) -> 0
B53: Sub-Total : R | C53: =SUM(C46:C51) -> 0 | D53: excl. VAT
B55: Sub-Total : R | C55: =SUM(C42,C53) -> 0 | D55: excl. VAT
B56: Discount : R | C56: =IFERROR(C55*'Cost Based Service Req.'!C15,0) -> 0
B57: Sub-Total : R | C57: =C55-C56 -> 0 | D57: excl. VAT
B58: VAT : R | C58: =IFERROR(C57*'Cost Based Service Req.'!C12%,0) -> 0 | D58: =_xlfn.CONCAT(" @ ",'Cost Based Service Req.'!C12," %") -> @ 15 %
B59: Total Fee : R | C59: =SUM(C57,C58) -> 0
A61: =Disclaimer!A7 -> Copyright © 2025 - M. Keuter - Some Rights Reserved

Sheet Cost Based Fee_(Per Sqm)
B3: Insert logo
A11: Professional Fees – Architectural Service
D13: =Cover!F13 -> 45483
A15: Project | B15: =IF(Cover!C17="","",Cover!C17)
A17: Address | B17: =IF(Cover!C19="","",Cover!C19)
A19: Project Budget : R | C19: ='Cost Based Service Req.'!C9 -> 0 | D19: excl. VAT
A21: Total Building Area (m²) : | C21: ='Cost Based Service Req.'!C43 -> 0
A23: % of Work as Alterations / Interfacing Work : | C23: ='Cost Based Service Req.'!C19 -> 0
A25: Building Restoration – Heritage legislation : | C25: ='Cost Based Service Req.'!C23 -> --------
A26: % of Work as Heritage Restoration : | C26: ='Cost Based Service Req.'!C26 -> 0
A28: Principal Consultant : | C28: ='Cost Based Service Req.'!C30 -> --------
A29: Principal Agent : | C29: ='Cost Based Service Req.'!C34 -> --------
B31: Work Stages | C31: Rate / Sqm
A34: Stage 1. Inception : R | C34: =IFERROR(IF('Data & Calc Sheet'!F45="YES",'Data & Calc Sheet'!J45/'Cost Based Service Req.'!$C$43,0),) -> 0
A35: Stage 2. Concept & Viability : R | C35: =IFERROR(IF('Data & Calc Sheet'!F46="YES",'Data & Calc Sheet'!J46/'Cost Based Service Req.'!$C$43,0),) -> 0
A36: Stage 3. Design Development : R | C36: =IFERROR(IF('Data & Calc Sheet'!F47="YES",'Data & Calc Sheet'!J47/'Cost Based Service Req.'!$C$43,0),) -> 0
A37: Stage 4.1 Local Authority Submissions : R | C37: =IFERROR(IF('Data & Calc Sheet'!F48="YES",'Data & Calc Sheet'!J48/'Cost Based Service Req.'!$C$43,0),) -> 0
A38: Stage 4.2 Call for Tenders : R | C38: =IFERROR(IF('Data & Calc Sheet'!F49="YES",'Data & Calc Sheet'!J49/'Cost Based Service Req.'!$C$43,0),) -> 0
A39: Stage 5 Construction : R | C39: =IFERROR(IF('Data & Calc Sheet'!F50="YES",'Data & Calc Sheet'!J50/'Cost Based Service Req.'!$C$43,0),) -> 0
A40: Stage 6. Close Out : R | C40: =IFERROR(IF('Data & Calc Sheet'!F51="YES",'Data & Calc Sheet'!J51/'Cost Based Service Req.'!$C$43,0),) -> 0
B42: Sub-Total : R | C42: =SUM(C34:C40) -> 0 | D42: excl. VAT
B44: Additional Services
A46: Special Design Services : R | C46: =IFERROR(IF('Cost Based Service Req.'!I143<>"",'Cost Based Service Req.'!I143/'Cost Based Service Req.'!$C$43,0),0) -> 0
A47: Special Management Services : R | C47: =IFERROR(IF('Cost Based Service Req.'!I144<>"",'Cost Based Service Req.'!I144/'Cost Based Service Req.'!$C$43,0),0) -> 0
A48: Special Studies : R | C48: =IFERROR(IF('Cost Based Service Req.'!I145<>"",'Cost Based Service Req.'!I145/'Cost Based Service Req.'!$C$43,0),0) -> 0
A49: Special Submissions to Statutory Authorities : R | C49: =IFERROR(IF('Cost Based Service Req.'!I146<>"",'Cost Based Service Req.'!I146/'Cost Based Service Req.'!$C$43,0),0) -> 0
A50: Work on Existing Premises : R | C50: =IFERROR(IF('Cost Based Service Req.'!I147<>"",'Cost Based Service Req.'!I147/'Cost Based Service Req.'!$C$43,0),0) -> 0
A51: Other Services : R | C51: =IFERROR(IF('Cost Based Service Req.'!I148<>"",'Cost Based Service Req.'!I148/'Cost Based Service Req.'!$C$43,0),0) -> 0
B53: Sub-Total : R | C53: =SUM(C46:C51) -> 0 | D53: excl. VAT
B55: Sub-Total : R | C55: =SUM(C42,C53) -> 0 | D55: excl. VAT
B56: Discount : R | C56: =IFERROR(C55*'Cost Based Service Req.'!C15,0) -> 0
B57: Sub-Total : R | C57: =C55-C56 -> 0 | D57: excl. VAT
B58: VAT : R | C58: =IFERROR(C57*'Cost Based Service Req.'!C12%,0) -> 0 | D58: =_xlfn.CONCAT(" @ ",'Cost Based Service Req.'!C12," %") -> @ 15 %
B59: Total Fee : R | C59: =SUM(C57,C58) -> 0
A61: =Disclaimer!A7 -> Copyright © 2025 - M. Keuter - Some Rights Reserved

Sheet Cost Based Fee_Repeat_(Per Sqm)
B3: Insert logo
A10: Professional Fees – Architectural Service
D12: =Cover!F13 -> 45483
A14: Project | B14: =IF(Cover!C17="","",Cover!C17)
A16: Address | B16: =IF(Cover!C19="","",Cover!C19)
A18: Project Budget : R | C18: ='Cost Based Service Req.'!C9 -> 0 | D18: excl. VAT
A20: Total Building Area (m²) : | C20: ='Cost Based Service Req.'!C43 -> 0
A22: % of Work as Alterations / Interfacing Work : | C22: ='Cost Based Service Req.'!C19 -> 0
A24: Building Restoration – Heritage legislation : | C24: ='Cost Based Service Req.'!C23 -> --------
A25: % of Work as Heritage Restoration : | C25: ='Cost Based Service Req.'!C26 -> 0
B27: Principal Consultant : | C27: ='Cost Based Service Req.'!C30 -> --------
B28: Principal Agent : | C28: ='Cost Based Service Req.'!C34 -> --------
B30: Work Stages | C30: Fee Apportionment
C32: Prototype Fee | D32: Fee / Repeat | E32: Repeat Fee
A33: Stage 1. Inception : R | C33: =IFERROR(IF('Data & Calc Sheet'!F45="YES",'Data & Calc Sheet'!J45/'Cost Based Service Req.'!$C$43,0),0) -> 0 | D33: =IFERROR(IF('Cost Based Service Req.'!C$37='Cost Based Service Req.'!L$3,'Data & Calc Sheet'!M45/'Cost Based Service Req.'!$C$43,""),0) | E33: =IFERROR(IF('Cost Based Service Req.'!C$37='Cost Based Service Req.'!L$3,'Data & Calc Sheet'!N45/'Cost Based Service Req.'!$C$43,""),0)
A34: Stage 2. Concept & Viability : R | C34: =IFERROR(IF('Data & Calc Sheet'!F46="YES",'Data & Calc Sheet'!J46/'Cost Based Service Req.'!$C$43,0),0) -> 0 | D34: =IFERROR(IF('Cost Based Service Req.'!C$37='Cost Based Service Req.'!L$3,'Data & Calc Sheet'!M46/'Cost Based Service Req.'!$C$43,""),0) | E34: =IFERROR(IF('Cost Based Service Req.'!C$37='Cost Based Service Req.'!L$3,'Data & Calc Sheet'!N46/'Cost Based Service Req.'!$C$43,""),0)
A35: Stage 3. Design Development : R | C35: =IFERROR(IF('Data & Calc Sheet'!F47="YES",'Data & Calc Sheet'!J47/'Cost Based Service Req.'!$C$43,0),0) -> 0 | D35: =IFERROR(IF('Cost Based Service Req.'!C$37='Cost Based Service Req.'!L$3,'Data & Calc Sheet'!M47/'Cost Based Service Req.'!$C$43,""),0) | E35: =IFERROR(IF('Cost Based Service Req.'!C$37='Cost Based Service Req.'!L$3,'Data & Calc Sheet'!N47/'Cost Based Service Req.'!$C$43,""),0)
A36: Stage 4.1 Local Authority Submissions : R | C36: =IFERROR(IF('Data & Calc Sheet'!F48="YES",'Data & Calc Sheet'!J48/'Cost Based Service Req.'!$C$43,0),0) -> 0 | D36: =IFERROR(IF('Cost Based Service Req.'!C$37='Cost Based Service Req.'!L$3,'Data & Calc Sheet'!M48/'Cost Based Service Req.'!$C$43,""),0) | E36: =IFERROR(IF('Cost Based Service Req.'!C$37='Cost Based Service Req.'!L$3,'Data & Calc Sheet'!N48/'Cost Based Service Req.'!$C$43,""),0)
A37: Stage 4.2 Call for Tenders : R | C37: =IFERROR(IF('Data & Calc Sheet'!F49="YES",'Data & Calc Sheet'!J49/'Cost Based Service Req.'!$C$43,0),0) -> 0 | D37: =IFERROR(IF('Cost Based Service Req.'!C$37='Cost Based Service Req.'!L$3,'Data & Calc Sheet'!M49/'Cost Based Service Req.'!$C$43,""),0) | E37: =IFERROR(IF('Cost Based Service Req.'!C$37='Cost Based Service Req.'!L$3,'Data & Calc Sheet'!N49/'Cost Based Service Req.'!$C$43,""),0)
A38: Stage 5 Construction : R | C38: =IFERROR(IF('Data & Calc Sheet'!F50="YES",'Data & Calc Sheet'!J50/'Cost Based Service Req.'!$C$43,0),0) -> 0 | E38: =IFERROR(IF('Cost Based Service Req.'!C$37='Cost Based Service Req.'!L$3,'Data & Calc Sheet'!N50/'Cost Based Service Req.'!$C$43,""),0)
A39: Stage 6. Close Out : R | C39: =IFERROR(IF('Data & Calc Sheet'!F51="YES",'Data & Calc Sheet'!J51/'Cost Based Service Req.'!$C$43,0),0) -> 0 | E39: =IFERROR(IF('Cost Based Service Req.'!C$37='Cost Based Service Req.'!L$3,'Data & Calc Sheet'!N51/'Cost Based Service Req.'!$C$43,""),0)
B41: Sub-Total : R | C41: =SUM(C33:C39) -> 0 | D41: =IFERROR(C41/'Cost Based Service Req.'!$C$43,0) -> 0 | E41: =IF('Cost Based Service Req.'!C$37='Cost Based Service Req.'!L$3,SUM(E33:E39),"")
B43: Sub-Total : R | C43: =SUM(C41,E41) -> 0 | D43: excl. VAT
B45: Additional Services
A47: Special Design Services : R | C47: =IFERROR(IF('Cost Based Service Req.'!I143<>"",'Cost Based Service Req.'!I143/'Cost Based Service Req.'!$C$43,0),0) -> 0
A48: Special Management Services : R | C48: =IFERROR(IF('Cost Based Service Req.'!I144<>"",'Cost Based Service Req.'!I144/'Cost Based Service Req.'!$C$43,0),0) -> 0
A49: Special Studies : R | C49: =IFERROR(IF('Cost Based Service Req.'!I145<>"",'Cost Based Service Req.'!I145/'Cost Based Service Req.'!$C$43,0),0) -> 0
A50: Special Submissions to Statutory Authorities : R | C50: =IFERROR(IF('Cost Based Service Req.'!I146<>"",'Cost Based Service Req.'!I146/'Cost Based Service Req.'!$C$43,0),0) -> 0
A51: Work on Existing Premises : R | C51: =IFERROR(IF('Cost Based Service Req.'!I147<>"",'Cost Based Service Req.'!I147/'Cost Based Service Req.'!$C$43,0),0) -> 0
A52: Other Services : R | C52: =IFERROR(IF('Cost Based Service Req.'!I148<>"",'Cost Based Service Req.'!I148/'Cost Based Service Req.'!$C$43,0),0) -> 0
B54: Sub-Total : R | C54: =SUM(C47:C52) -> 0 | D54: excl. VAT
B56: Sub-Total : R | C56: =SUM(C43,C54) -> 0 | D56: excl. VAT
B57: Discount : R | C57: =IFERROR(C56*'Cost Based Service Req.'!C15,0) -> 0
B58: Sub-Total : R | C58: =C56-C57 -> 0 | D58: excl. VAT
B59: VAT : R | C59: =IFERROR(C58*'Cost Based Service Req.'!C12%,0) -> 0 | D59: =_xlfn.CONCAT(" @ ",'Cost Based Service Req.'!C12," %") -> @ 15 %
B60: Total Fee : R | C60: =SUM(C58,C59) -> 0
A61: =Disclaimer!A7 -> Copyright © 2025 - M. Keuter - Some Rights Reserved

Sheet Time Based Service
A1: Professional Fees – Architectural Service | K1: -----
K2: Specialist | L2: ='SACAP Prof.Rate'!B3 -> 3313
F3: =Cover!F13 -> 45483 | K3: >10yrs experience | L3: ='SACAP Prof.Rate'!B4 -> 2663
A4: Time Based Fee – Method 2 : SACAP Calculated Rate | K4: <10yrs experience | L4: ='SACAP Prof.Rate'!B5 -> 1991
A6: Indicate the Total Area of the proposed building(s) associated with the project. | K6: -----
A7: [Required ONLY for determining a per square metre rate associated with the project.] | K7: Associate | L7: ='SACAP Prof.Rate'!B6 -> 1420
A8: Total Building Area (m²) : | K8: Manager | L8: ='SACAP Prof.Rate'!B7 -> 1420
K9: Reg.Arch.Prof. w/Direct Responsibility | L9: ='SACAP Prof.Rate'!B8 -> 960
A10: Select the category & number of persons employed & their hours devoted to the Project | K10: Reg.Arch.Prof. no Direct Responsibility | L10: ='SACAP Prof.Rate'!B9 -> 571
A11: Principal; Partners & Equity Holders | K11: Staff in Support of Arch.Work Output | L11: ='SACAP Prof.Rate'!B10 -> 408
C12: No. of Person | D12: No. of Hrs | E12: SACAP Rate (R) | F12: Cost (R) | G12: Rate / Sqm
E13: =IFERROR(INDEX($K$1:$L$4,MATCH(A13,$K$1:$K$4,0),2),"") | F13: =IF(OR(C13="",D13=""),"",IFERROR(PRODUCT(C13:E13),"")) | G13: =IF(OR(C13="",D13=""),"",IFERROR(F13/$C$8,""))
A14: ----- | E14: =IFERROR(INDEX($K$1:$L$4,MATCH(A14,$K$1:$K$4,0),2),"") -> 0 | F14: =IF(OR(C14="",D14=""),"",IFERROR(PRODUCT(C14:E14),"")) | G14: =IF(OR(C14="",D14=""),"",IFERROR(F14/$C$8,""))
A15: ----- | E15: =IFERROR(INDEX($K$1:$L$4,MATCH(A15,$K$1:$K$4,0),2),"") -> 0 | F15: =IF(OR(C15="",D15=""),"",IFERROR(PRODUCT(C15:E15),"")) | G15: =IF(OR(C15="",D15=""),"",IFERROR(F15/$C$8,""))
A17: Salaried Staff
C18: No. of Person | D18: No. of Hrs | E18: SACAP Rate (R) | F18: Cost (R) | G18: Rate / Sqm
E19: =IFERROR(INDEX($K$6:$L$11,MATCH(A19,$K$6:$K$11,0),2),"") | F19: =IF(OR(C19="",D19=""),"",IFERROR(PRODUCT(C19:E19),"")) | G19: =IF(OR(C19="",D19=""),"",IFERROR(F19/$C$8,""))
A20: ----- | E20: =IFERROR(INDEX($K$6:$L$11,MATCH(A20,$K$6:$K$11,0),2),"") -> 0 | F20: =IF(OR(C20="",D20=""),"",IFERROR(PRODUCT(C20:E20),"")) | G20: =IF(OR(C20="",D20=""),"",IFERROR(F20/$C$8,""))
A21: ----- | E21: =IFERROR(INDEX($K$6:$L$11,MATCH(A21,$K$6:$K$11,0),2),"") -> 0 | F21: =IF(OR(C21="",D21=""),"",IFERROR(PRODUCT(C21:E21),"")) | G21: =IF(OR(C21="",D21=""),"",IFERROR(F21/$C$8,""))
A22: ----- | E22: =IFERROR(INDEX($K$6:$L$11,MATCH(A22,$K$6:$K$11,0),2),"") -> 0 | F22: =IF(OR(C22="",D22=""),"",IFERROR(PRODUCT(C22:E22),"")) | G22: =IF(OR(C22="",D22=""),"",IFERROR(F22/$C$8,""))
A23: ----- | E23: =IFERROR(INDEX($K$6:$L$11,MATCH(A23,$K$6:$K$11,0),2),"") -> 0 | F23: =IF(OR(C23="",D23=""),"",IFERROR(PRODUCT(C23:E23),"")) | G23: =IF(OR(C23="",D23=""),"",IFERROR(F23/$C$8,""))
A25: Enter the discounted % value where a discounted service is being offered.
A26: Discount Offered : | C26: 0
A28: Select the VAT Rate applicable where fees raised are inclusive of VAT.
B29: VAT Rate : | C29: 15 | D29: %
C32: Sub-Total : R | E32: =SUM(F13:F15,F19:F23) -> 0 | F32: excl. VAT | G32: =SUM(G13:G15,G19:G23) -> 0
C33: Discount offered : R | E33: =E32*$C$26 -> 0 | F33: =IF(OR(C26="",C26=0),"",CONCATENATE(" @ ",C26*100," %")) | G33: =G32*$C$26 -> 0
C34: Sub-Total : R | E34: =E32-E33 -> 0 | F34: excl. VAT | G34: =G32-G33 -> 0
D35: VAT : R | E35: =IFERROR(E34*C29%,0) -> 0 | F35: =_xlfn.CONCAT(" @ ",C29," %") -> @ 15 % | G35: =IFERROR(G34*C29%,0) -> 0
D36: Total Fee : R | E36: =SUM(E34:E35) -> 0 | G36: =SUM(G34:G35) -> 0
A38: =Disclaimer!A7 -> Copyright © 2025 - M. Keuter - Some Rights Reserved

Sheet Time Based Fee
B2: Insert logo
A15: Professional Fees – Architectural Service
E17: =Cover!F13 -> 45483
A19: Project | B19: =IF(Cover!C17="","",Cover!C17)
A21: Address | B21: =IF(Cover!C19="","",Cover!C19)
D24: No. of Person | E24: No. of Hrs | F24: Cost (R)
A25: Principal; Partners & Equity Holders : | D25: =SUM('Time Based Service'!C13:C15) -> 0 | E25: =SUM('Time Based Service'!D13:D15) -> 0 | F25: =SUM('Time Based Service'!F13:F15) -> 0
D27: No. of Person | E27: No. of Hrs | F27: Cost (R)
A28: Salaried Staff : | D28: =SUM('Time Based Service'!C19:C23) -> 0 | E28: =SUM('Time Based Service'!D19:D23) -> 0 | F28: =SUM('Time Based Service'!F19:F23) -> 0
C32: Sub-Total : | E32: =SUM(F25,F28) -> 0 | F32: excl. VAT
C33: Discount : R | E33: =IFERROR(E32*'Time Based Service'!C26,0) -> 0 | F33: =IF(OR('Time Based Service'!C26=0,'Time Based Service'!C26=""),"",CONCATENATE(" @ ",'Time Based Service'!C26*100," %"))
C34: Sub-Total : R | E34: =E32-E33 -> 0 | F34: excl. VAT
D35: VAT : R | E35: =IFERROR(E34*'Time Based Service'!C29%,0) -> 0 | F35: =IFERROR(_xlfn.CONCAT(" @ ",'Time Based Service'!C29," %"),0) -> @ 15 %
D36: Total Fee : R | E36: =SUM(E34:E35) -> 0
A38: =Disclaimer!A7 -> Copyright © 2025 - M. Keuter - Some Rights Reserved

Sheet Time Based Fee_(Per Sqm)
B2: Insert logo
A15: Professional Fees – Architectural Service
E17: =Cover!F13 -> 45483
A19: Project | B19: =IF('Task Time Based Service'!C17="","",'Task Time Based Service'!C17)
A21: Address | B21: =IF('Task Time Based Service'!C19="","",'Task Time Based Service'!C19)
D24: No. of Person | E24: No. of Hrs | F24: Rate / Sqm (R)
A25: Principal; Partners & Equity Holders : | D25: =SUM('Time Based Service'!C13:C15) -> 0 | E25: =SUM('Time Based Service'!D13:D15) -> 0 | F25: =SUM('Time Based Service'!G13:G15) -> 0
D27: No. of Person | E27: No. of Hrs | F27: Rate / Sqm (R)
A28: Salaried Staff : | D28: =SUM('Time Based Service'!C19:C23) -> 0 | E28: =SUM('Time Based Service'!D19:D23) -> 0 | F28: =SUM('Time Based Service'!G19:G23) -> 0
C32: Sub-Total : | E32: =SUM(F25,F28) -> 0 | F32: excl. VAT
C33: Discount : R | E33: =IFERROR(E32*'Time Based Service'!C26,0) -> 0 | F33: =IF(OR('Time Based Service'!C26=0,'Time Based Service'!C26=""),"",CONCATENATE(" @ ",'Time Based Service'!C26*100," %"))
C34: Sub-Total : R | E34: =E32-E33 -> 0 | F34: excl. VAT
D35: VAT : R | E35: =IFERROR(E34*'Time Based Service'!C29%,0) -> 0 | F35: =IFERROR(_xlfn.CONCAT(" @ ",'Time Based Service'!C29," %"),0) -> @ 15 %
D36: Total Fee : R | E36: =SUM(E34:E35) -> 0
A38: =Disclaimer!A7 -> Copyright © 2025 - M. Keuter - Some Rights Reserved

Sheet Time Based Service - Alternate
A1: Professional Fees – Architectural Service | R1: Stage List | S1: ----- | V1: %of Cost
R2: -------- | S2: Specialist | T2: ='SACAP Prof.Rate'!B3 -> 3313 | V2: 10 | W2: 3
H3: =Cover!F13 -> 45483 | R3: Yes | S3: >10yrs experience | T3: ='SACAP Prof.Rate'!B4 -> 2663 | V3: 20 | W3: 22
A4: Time Based Fee – Work Stage Alternative | R4: No | S4: <10yrs experience | T4: ='SACAP Prof.Rate'!B5 -> 1991 | V4: 65 | W4: 30
S5: Associate | T5: ='SACAP Prof.Rate'!B6 -> 1420 | V5: 5 | W5: 45
A6: Select the category of complexity applicable to the project type for which professional services are required. | S6: Manager | T6: ='SACAP Prof.Rate'!B7 -> 1420 | V6: =SUM(V2:V5) -> 100 | W6: =SUM(W2:W5) -> 100
B7: Complexity of Project : | C7: LOW COMPLEXITY | S7: Reg.Arch.Prof. w/Direct Responsibility | T7: ='SACAP Prof.Rate'!B8 -> 960
S8: Reg.Arch.Prof. no Direct Responsibility | T8: ='SACAP Prof.Rate'!B9 -> 571
A9: Identify whether the building is a prototypical design to be repeated a number of times. | S9: Staff in Support of Arch.Work Output | T9: ='SACAP Prof.Rate'!B10 -> 408
B10: Prototypical Design : | C10: --------
A12: Indicate the number of times the prototypical design is the be repeated as a new building.
B13: No. of Prototypical Design Repeats : | C13: 0
A15: Enter the discounted % value where a discounted service is being offered.
A16: Discount Offered : | C16: 0
A18: Select the VAT Rate applicable where fees raised are inclusive of VAT.
B19: VAT Rate : | C19: 15 | D19: %
A21: Indicate the Total Area of the proposed building(s) associated with the project. [Required ONLY for determining a per square metre rate associated with the project.]
B22: Total Building Area (m²) : | C22: 0
A24: Work to be Undertaken per Work Stages – Time Based
A25: 1. Allocate the assumed number of hours required to undertake the task to be performed.
A26: 2. Indicate the number of persons assigned to undertake the identified task.
A27: 3. Select the category of professional to perform the identified task.
A28: 4. Enter hourly “Own Rate” ONLY where default SACAP rate is not to be used.
A29: Stage 1: Inception | C29: Allotted Hrs | D29: No. of Person | E29: Professional | F29: SACAP Rate (R) | G29: Own Rate (R) | H29: Cost (R) | I29: Exec. Cost (R) | J29: Sal. Cost (R) | K29: Man Hrs Exec. | L29: Man Hrs Sal. | V29: Allocated Man Hours | AE29: Income Generated
V30: Specialist | W30: >10yrs experience | X30: <10yrs experience | Y30: Associate | Z30: Manager | AA30: Reg.Arch.Prof. w/Direct Responsibility | AB30: Reg.Arch.Prof. no Direct Responsibility | AC30: Staff in Support of Arch.Work Output | AE30: Specialist | AF30: >10yrs experience | AG30: <10yrs experience | AH30: Associate | AI30: Manager | AJ30: Reg.Arch.Prof. w/Direct Responsibility | AK30: Reg.Arch.Prof. no Direct Responsibility | AL30: Staff in Support of Arch.Work Output
A31: a) | B31: Receive, appraise and report on the client's requirements with regard to the client's brief. | F31: =IFERROR(INDEX($S$1:$T$9,MATCH(E31,$S$1:$S$9,0),2),"") | H31: =IFERROR(IF(OR(G31=0,G31=""),C31*D31*F31,D31*G31),0) -> 0 | I31: =IF(OR(E31=S$2,E31=S$3,E31=S$4),H31,0) -> 0 | J31: =IF(OR(E31=S$5,E31=S$6,E31=S$7,E31=S$8,E31=S$9),H31,0) -> 0 | K31: =IF(OR(E31=S$2,E31=S$3,E31=S$4),C31*D31,0) -> 0 | L31: =IF(OR(E31=S$5,E31=S$6,E31=S$7,E31=S$8,E31=S$9),C31*D31,0) -> 0 | V31: =IF($E31=V$30,$K31,0) -> 0 | W31: =IF($E31=W$30,$K31,0) -> 0 | X31: =IF($E31=X$30,$K31,0) -> 0 | Y31: =IF($E31=Y$30,$L31,0) -> 0 | Z31: =IF($E31=Z$30,$L31,0) -> 0 | AA31: =IF($E31=AA$30,$L31,0) -> 0 | AB31: =IF($E31=AB$30,$L31,0) -> 0 | AC31: =IF($E31=AC$30,$L31,0) -> 0 | AE31: =IF($E31=AE$30,$H31,0) -> 0 | AF31: =IF($E31=AF$30,$H31,0) -> 0 | AG31: =IF($E31=AG$30,$H31,0) -> 0 | AH31: =IF($E31=AH$30,$H31,0) -> 0 | AI31: =IF($E31=AI$30,$H31,0) -> 0 | AJ31: =IF($E31=AJ$30,$H31,0) -> 0 | AK31: =IF($E31=AK$30,$H31,0) -> 0 | AL31: =IF($E31=AL$30,$H31,0) -> 0
A32: b) | B32: Determine the site and rights and constraints. | E32: ----- | F32: =IFERROR(INDEX($S$1:$T$9,MATCH(E32,$S$1:$S$9,0),2),"") -> 0 | H32: =IFERROR(IF(OR(G32=0,G32=""),C32*D32*F32,D32*G32),0) -> 0 | I32: =IF(OR(E32=S$2,E32=S$3,E32=S$4),H32,0) -> 0 | J32: =IF(OR(E32=S$5,E32=S$6,E32=S$7,E32=S$8,E32=S$9),H32,0) -> 0 | K32: =IF(OR(E32=S$2,E32=S$3,E32=S$4),C32*D32,0) -> 0 | L32: =IF(OR(E32=S$5,E32=S$6,E32=S$7,E32=S$8,E32=S$9),C32*D32,0) -> 0 | V32: =IF($E32=V$30,$K32,0) -> 0 | W32: =IF($E32=W$30,$K32,0) -> 0 | X32: =IF($E32=X$30,$K32,0) -> 0 | Y32: =IF($E32=Y$30,$L32,0) -> 0 | Z32: =IF($E32=Z$30,$L32,0) -> 0 | AA32: =IF($E32=AA$30,$L32,0) -> 0 | AB32: =IF($E32=AB$30,$L32,0) -> 0 | AC32: =IF($E32=AC$30,$L32,0) -> 0 | AE32: =IF($E32=AE$30,$H32,0) -> 0 | AF32: =IF($E32=AF$30,$H32,0) -> 0 | AG32: =IF($E32=AG$30,$H32,0) -> 0 | AH32: =IF($E32=AH$30,$H32,0) -> 0 | AI32: =IF($E32=AI$30,$H32,0) -> 0 | AJ32: =IF($E32=AJ$30,$H32,0) -> 0 | AK32: =IF($E32=AK$30,$H32,0) -> 0 | AL32: =IF($E32=AL$30,$H32,0) -> 0
A33: c) | B33: Determine budgetary constraints. | E33: ----- | F33: =IFERROR(INDEX($S$1:$T$9,MATCH(E33,$S$1:$S$9,0),2),"") -> 0 | H33: =IFERROR(IF(OR(G33=0,G33=""),C33*D33*F33,D33*G33),0) -> 0 | I33: =IF(OR(E33=S$2,E33=S$3,E33=S$4),H33,0) -> 0 | J33: =IF(OR(E33=S$5,E33=S$6,E33=S$7,E33=S$8,E33=S$9),H33,0) -> 0 | K33: =IF(OR(E33=S$2,E33=S$3,E33=S$4),C33*D33,0) -> 0 | L33: =IF(OR(E33=S$5,E33=S$6,E33=S$7,E33=S$8,E33=S$9),C33*D33,0) -> 0 | V33: =IF($E33=V$30,$K33,0) -> 0 | W33: =IF($E33=W$30,$K33,0) -> 0 | X33: =IF($E33=X$30,$K33,0) -> 0 | Y33: =IF($E33=Y$30,$L33,0) -> 0 | Z33: =IF($E33=Z$30,$L33,0) -> 0 | AA33: =IF($E33=AA$30,$L33,0) -> 0 | AB33: =IF($E33=AB$30,$L33,0) -> 0 | AC33: =IF($E33=AC$30,$L33,0) -> 0 | AE33: =IF($E33=AE$30,$H33,0) -> 0 | AF33: =IF($E33=AF$30,$H33,0) -> 0 | AG33: =IF($E33=AG$30,$H33,0) -> 0 | AH33: =IF($E33=AH$30,$H33,0) -> 0 | AI33: =IF($E33=AI$30,$H33,0) -> 0 | AJ33: =IF($E33=AJ$30,$H33,0) -> 0 | AK33: =IF($E33=AK$30,$H33,0) -> 0 | AL33: =IF($E33=AL$30,$H33,0) -> 0
A34: d) | B34: Determine the need for consultants. | E34: ----- | F34: =IFERROR(INDEX($S$1:$T$9,MATCH(E34,$S$1:$S$9,0),2),"") -> 0 | H34: =IFERROR(IF(OR(G34=0,G34=""),C34*D34*F34,D34*G34),0) -> 0 | I34: =IF(OR(E34=S$2,E34=S$3,E34=S$4),H34,0) -> 0 | J34: =IF(OR(E34=S$5,E34=S$6,E34=S$7,E34=S$8,E34=S$9),H34,0) -> 0 | K34: =IF(OR(E34=S$2,E34=S$3,E34=S$4),C34*D34,0) -> 0 | L34: =IF(OR(E34=S$5,E34=S$6,E34=S$7,E34=S$8,E34=S$9),C34*D34,0) -> 0 | V34: =IF($E34=V$30,$K34,0) -> 0 | W34: =IF($E34=W$30,$K34,0) -> 0 | X34: =IF($E34=X$30,$K34,0) -> 0 | Y34: =IF($E34=Y$30,$L34,0) -> 0 | Z34: =IF($E34=Z$30,$L34,0) -> 0 | AA34: =IF($E34=AA$30,$L34,0) -> 0 | AB34: =IF($E34=AB$30,$L34,0) -> 0 | AC34: =IF($E34=AC$30,$L34,0) -> 0 | AE34: =IF($E34=AE$30,$H34,0) -> 0 | AF34: =IF($E34=AF$30,$H34,0) -> 0 | AG34: =IF($E34=AG$30,$H34,0) -> 0 | AH34: =IF($E34=AH$30,$H34,0) -> 0 | AI34: =IF($E34=AI$30,$H34,0) -> 0 | AJ34: =IF($E34=AJ$30,$H34,0) -> 0 | AK34: =IF($E34=AK$30,$H34,0) -> 0 | AL34: =IF($E34=AL$30,$H34,0) -> 0
A35: e) | B35: Determine indicative project timelines. | E35: ----- | F35: =IFERROR(INDEX($S$1:$T$9,MATCH(E35,$S$1:$S$9,0),2),"") -> 0 | H35: =IFERROR(IF(OR(G35=0,G35=""),C35*D35*F35,D35*G35),0) -> 0 | I35: =IF(OR(E35=S$2,E35=S$3,E35=S$4),H35,0) -> 0 | J35: =IF(OR(E35=S$5,E35=S$6,E35=S$7,E35=S$8,E35=S$9),H35,0) -> 0 | K35: =IF(OR(E35=S$2,E35=S$3,E35=S$4),C35*D35,0) -> 0 | L35: =IF(OR(E35=S$5,E35=S$6,E35=S$7,E35=S$8,E35=S$9),C35*D35,0) -> 0 | V35: =IF($E35=V$30,$K35,0) -> 0 | W35: =IF($E35=W$30,$K35,0) -> 0 | X35: =IF($E35=X$30,$K35,0) -> 0 | Y35: =IF($E35=Y$30,$L35,0) -> 0 | Z35: =IF($E35=Z$30,$L35,0) -> 0 | AA35: =IF($E35=AA$30,$L35,0) -> 0 | AB35: =IF($E35=AB$30,$L35,0) -> 0 | AC35: =IF($E35=AC$30,$L35,0) -> 0 | AE35: =IF($E35=AE$30,$H35,0) -> 0 | AF35: =IF($E35=AF$30,$H35,0) -> 0 | AG35: =IF($E35=AG$30,$H35,0) -> 0 | AH35: =IF($E35=AH$30,$H35,0) -> 0 | AI35: =IF($E35=AI$30,$H35,0) -> 0 | AJ35: =IF($E35=AJ$30,$H35,0) -> 0 | AK35: =IF($E35=AK$30,$H35,0) -> 0 | AL35: =IF($E35=AL$30,$H35,0) -> 0
A36: f) | B36: Determine methods of contracting. | E36: ----- | F36: =IFERROR(INDEX($S$1:$T$9,MATCH(E36,$S$1:$S$9,0),2),"") -> 0 | H36: =IFERROR(IF(OR(G36=0,G36=""),C36*D36*F36,D36*G36),0) -> 0 | I36: =IF(OR(E36=S$2,E36=S$3,E36=S$4),H36,0) -> 0 | J36: =IF(OR(E36=S$5,E36=S$6,E36=S$7,E36=S$8,E36=S$9),H36,0) -> 0 | K36: =IF(OR(E36=S$2,E36=S$3,E36=S$4),C36*D36,0) -> 0 | L36: =IF(OR(E36=S$5,E36=S$6,E36=S$7,E36=S$8,E36=S$9),C36*D36,0) -> 0 | V36: =IF($E36=V$30,$K36,0) -> 0 | W36: =IF($E36=W$30,$K36,0) -> 0 | X36: =IF($E36=X$30,$K36,0) -> 0 | Y36: =IF($E36=Y$30,$L36,0) -> 0 | Z36: =IF($E36=Z$30,$L36,0) -> 0 | AA36: =IF($E36=AA$30,$L36,0) -> 0 | AB36: =IF($E36=AB$30,$L36,0) -> 0 | AC36: =IF($E36=AC$30,$L36,0) -> 0 | AE36: =IF($E36=AE$30,$H36,0) -> 0 | AF36: =IF($E36=AF$30,$H36,0) -> 0 | AG36: =IF($E36=AG$30,$H36,0) -> 0 | AH36: =IF($E36=AH$30,$H36,0) -> 0 | AI36: =IF($E36=AI$30,$H36,0) -> 0 | AJ36: =IF($E36=AJ$30,$H36,0) -> 0 | AK36: =IF($E36=AK$30,$H36,0) -> 0 | AL36: =IF($E36=AL$30,$H36,0) -> 0
A37: g) | B37: Determine whether other statutory authority applications are required or desirable. | E37: ----- | F37: =IFERROR(INDEX($S$1:$T$9,MATCH(E37,$S$1:$S$9,0),2),"") -> 0 | H37: =IFERROR(IF(OR(G37=0,G37=""),C37*D37*F37,D37*G37),0) -> 0 | I37: =IF(OR(E37=S$2,E37=S$3,E37=S$4),H37,0) -> 0 | J37: =IF(OR(E37=S$5,E37=S$6,E37=S$7,E37=S$8,E37=S$9),H37,0) -> 0 | K37: =IF(OR(E37=S$2,E37=S$3,E37=S$4),C37*D37,0) -> 0 | L37: =IF(OR(E37=S$5,E37=S$6,E37=S$7,E37=S$8,E37=S$9),C37*D37,0) -> 0 | V37: =IF($E37=V$30,$K37,0) -> 0 | W37: =IF($E37=W$30,$K37,0) -> 0 | X37: =IF($E37=X$30,$K37,0) -> 0 | Y37: =IF($E37=Y$30,$L37,0) -> 0 | Z37: =IF($E37=Z$30,$L37,0) -> 0 | AA37: =IF($E37=AA$30,$L37,0) -> 0 | AB37: =IF($E37=AB$30,$L37,0) -> 0 | AC37: =IF($E37=AC$30,$L37,0) -> 0 | AE37: =IF($E37=AE$30,$H37,0) -> 0 | AF37: =IF($E37=AF$30,$H37,0) -> 0 | AG37: =IF($E37=AG$30,$H37,0) -> 0 | AH37: =IF($E37=AH$30,$H37,0) -> 0 | AI37: =IF($E37=AI$30,$H37,0) -> 0 | AJ37: =IF($E37=AJ$30,$H37,0) -> 0 | AK37: =IF($E37=AK$30,$H37,0) -> 0 | AL37: =IF($E37=AL$30,$H37,0) -> 0
C38: =SUM(C31:C37) -> 0 | D38: =SUM(D31:D37) -> 0 | H38: =SUM(H31:H37) -> 0 | I38: =SUM(I31:I37) -> 0 | J38: =SUM(J31:J37) -> 0 | K38: =SUM(K31:K37) -> 0 | L38: =SUM(L31:L37) -> 0 | V38: =SUM(V31:V37) -> 0 | W38: =SUM(W31:W37) -> 0 | X38: =SUM(X31:X37) -> 0 | Y38: =SUM(Y31:Y37) -> 0 | Z38: =SUM(Z31:Z37) -> 0 | AA38: =SUM(AA31:AA37) -> 0 | AB38: =SUM(AB31:AB37) -> 0 | AC38: =SUM(AC31:AC37) -> 0 | AE38: =SUM(AE31:AE37) -> 0 | AF38: =SUM(AF31:AF37) -> 0 | AG38: =SUM(AG31:AG37) -> 0 | AH38: =SUM(AH31:AH37) -> 0 | AI38: =SUM(AI31:AI37) -> 0 | AJ38: =SUM(AJ31:AJ37) -> 0 | AK38: =SUM(AK31:AK37) -> 0 | AL38: =SUM(AL31:AL37) -> 0
A40: Stage 2: Concept and viability (concept design) | C40: Allotted Hrs | D40: No. of Person | E40: Professional | F40: SACAP Rate (R) | G40: Own Rate (R) | H40: Cost (R) | I40: Exec. Cost (R) | J40: Sal. Cost (R) | K40: Man Hrs Exec. | L40: Man Hrs Sal. | V40: Allocated Man Hours | AE40: Income Generated
V41: Specialist | W41: >10yrs experience | X41: <10yrs experience | Y41: Associate | Z41: Manager | AA41: Reg.Arch.Prof. w/Direct Responsibility | AB41: Reg.Arch.Prof. no Direct Responsibility | AC41: Staff in Support of Arch.Work Output | AE41: Specialist | AF41: >10yrs experience | AG41: <10yrs experience | AH41: Associate | AI41: Manager | AJ41: Reg.Arch.Prof. w/Direct Responsibility | AK41: Reg.Arch.Prof. no Direct Responsibility | AL41: Staff in Support of Arch.Work Output
A42: a)(i) | B42: Prepare an initial design concept and advise on the intended space provisions and planning relationships. | F42: =IFERROR(INDEX($S$1:$T$9,MATCH(E42,$S$1:$S$9,0),2),"") | H42: =IFERROR(IF(OR(G42=0,G42=""),C42*D42*F42,D42*G42),0) -> 0 | I42: =IF(OR(E42=S$2,E42=S$3,E42=S$4),H42,0) -> 0 | J42: =IF(OR(E42=S$5,E42=S$6,E42=S$7,E42=S$8,E42=S$9),H42,0) -> 0 | K42: =IF(OR(E42=S$2,E42=S$3,E42=S$4),C42*D42,0) -> 0 | L42: =IF(OR(E42=S$5,E42=S$6,E42=S$7,E42=S$8,E42=S$9),C41*D42,0) -> 0 | V42: =IF($E42=V$30,$K42,0) -> 0 | W42: =IF($E42=W$30,$K42,0) -> 0 | X42: =IF($E42=X$30,$K42,0) -> 0 | Y42: =IF($E42=Y$30,$L42,0) -> 0 | Z42: =IF($E42=Z$30,$L42,0) -> 0 | AA42: =IF($E42=AA$30,$L42,0) -> 0 | AB42: =IF($E42=AB$30,$L42,0) -> 0 | AC42: =IF($E42=AC$30,$L42,0) -> 0 | AE42: =IF($E42=AE$30,$H42,0) -> 0 | AF42: =IF($E42=AF$30,$H42,0) -> 0 | AG42: =IF($E42=AG$30,$H42,0) -> 0 | AH42: =IF($E42=AH$30,$H42,0) -> 0 | AI42: =IF($E42=AI$30,$H42,0) -> 0 | AJ42: =IF($E42=AJ$30,$H42,0) -> 0 | AK42: =IF($E42=AK$30,$H42,0) -> 0 | AL42: =IF($E42=AL$30,$H42,0) -> 0
A43: a)(ii) | B43: Prepare an initial design concept and advise on proposed materials and intended building services. | E43: ----- | F43: =IFERROR(INDEX($S$1:$T$9,MATCH(E43,$S$1:$S$9,0),2),"") -> 0 | H43: =IFERROR(IF(OR(G43=0,G43=""),C42*D43*F43,D43*G43),0) -> 0 | I43: =IF(OR(E43=S$2,E43=S$3,E43=S$4),H43,0) -> 0 | J43: =IF(OR(E43=S$5,E43=S$6,E43=S$7,E43=S$8,E43=S$9),H43,0) -> 0 | K43: =IF(OR(E43=S$2,E43=S$3,E43=S$4),C43*D43,0) -> 0 | L43: =IF(OR(E43=S$5,E43=S$6,E43=S$7,E43=S$8,E43=S$9),C42*D43,0) -> 0 | V43: =IF($E43=V$30,$K43,0) -> 0 | W43: =IF($E43=W$30,$K43,0) -> 0 | X43: =IF($E43=X$30,$K43,0) -> 0 | Y43: =IF($E43=Y$30,$L43,0) -> 0 | Z43: =IF($E43=Z$30,$L43,0) -> 0 | AA43: =IF($E43=AA$30,$L43,0) -> 0 | AB43: =IF($E43=AB$30,$L43,0) -> 0 | AC43: =IF($E43=AC$30,$L43,0) -> 0 | AE43: =IF($E43=AE$30,$H43,0) -> 0 | AF43: =IF($E43=AF$30,$H43,0) -> 0 | AG43: =IF($E43=AG$30,$H43,0) -> 0 | AH43: =IF($E43=AH$30,$H43,0) -> 0 | AI43: =IF($E43=AI$30,$H43,0) -> 0 | AJ43: =IF($E43=AJ$30,$H43,0) -> 0 | AK43: =IF($E43=AK$30,$H43,0) -> 0 | AL43: =IF($E43=AL$30,$H43,0) -> 0
A44: a)(iii) | B44: Prepare an initial design concept and advise on the technical and functional characteristics of the design. | E44: ----- | F44: =IFERROR(INDEX($S$1:$T$9,MATCH(E44,$S$1:$S$9,0),2),"") -> 0 | H44: =IFERROR(IF(OR(G44=0,G44=""),C42*D44*F44,D44*G44),0) -> 0 | I44: =IF(OR(E44=S$2,E44=S$3,E44=S$4),H44,0) -> 0 | J44: =IF(OR(E44=S$5,E44=S$6,E44=S$7,E44=S$8,E44=S$9),H44,0) -> 0 | K44: =IF(OR(E44=S$2,E44=S$3,E44=S$4),C44*D44,0) -> 0 | L44: =IF(OR(E44=S$5,E44=S$6,E44=S$7,E44=S$8,E44=S$9),C43*D44,0) -> 0 | V44: =IF($E44=V$30,$K44,0) -> 0 | W44: =IF($E44=W$30,$K44,0) -> 0 | X44: =IF($E44=X$30,$K44,0) -> 0 | Y44: =IF($E44=Y$30,$L44,0) -> 0 | Z44: =IF($E44=Z$30,$L44,0) -> 0 | AA44: =IF($E44=AA$30,$L44,0) -> 0 | AB44: =IF($E44=AB$30,$L44,0) -> 0 | AC44: =IF($E44=AC$30,$L44,0) -> 0 | AE44: =IF($E44=AE$30,$H44,0) -> 0 | AF44: =IF($E44=AF$30,$H44,0) -> 0 | AG44: =IF($E44=AG$30,$H44,0) -> 0 | AH44: =IF($E44=AH$30,$H44,0) -> 0 | AI44: =IF($E44=AI$30,$H44,0) -> 0 | AJ44: =IF($E44=AJ$30,$H44,0) -> 0 | AK44: =IF($E44=AK$30,$H44,0) -> 0 | AL44: =IF($E44=AL$30,$H44,0) -> 0
A45: b) | B45: Check for conformity of the concept with the rights to the use of the land. | E45: ----- | F45: =IFERROR(INDEX($S$1:$T$9,MATCH(E45,$S$1:$S$9,0),2),"") -> 0 | H45: =IFERROR(IF(OR(G45=0,G45=""),C45*D45*F45,D45*G45),0) -> 0 | I45: =IF(OR(E45=S$2,E45=S$3,E45=S$4),H45,0) -> 0 | J45: =IF(OR(E45=S$5,E45=S$6,E45=S$7,E45=S$8,E45=S$9),H45,0) -> 0 | K45: =IF(OR(E45=S$2,E45=S$3,E45=S$4),C45*D45,0) -> 0 | L45: =IF(OR(E45=S$5,E45=S$6,E45=S$7,E45=S$8,E45=S$9),C44*D45,0) -> 0 | V45: =IF($E45=V$30,$K45,0) -> 0 | W45: =IF($E45=W$30,$K45,0) -> 0 | X45: =IF($E45=X$30,$K45,0) -> 0 | Y45: =IF($E45=Y$30,$L45,0) -> 0 | Z45: =IF($E45=Z$30,$L45,0) -> 0 | AA45: =IF($E45=AA$30,$L45,0) -> 0 | AB45: =IF($E45=AB$30,$L45,0) -> 0 | AC45: =IF($E45=AC$30,$L45,0) -> 0 | AE45: =IF($E45=AE$30,$H45,0) -> 0 | AF45: =IF($E45=AF$30,$H45,0) -> 0 | AG45: =IF($E45=AG$30,$H45,0) -> 0 | AH45: =IF($E45=AH$30,$H45,0) -> 0 | AI45: =IF($E45=AI$30,$H45,0) -> 0 | AJ45: =IF($E45=AJ$30,$H45,0) -> 0 | AK45: =IF($E45=AK$30,$H45,0) -> 0 | AL45: =IF($E45=AL$30,$H45,0) -> 0
A46: c) | B46: Consult with local and statutory authorities. | E46: ----- | F46: =IFERROR(INDEX($S$1:$T$9,MATCH(E46,$S$1:$S$9,0),2),"") -> 0 | H46: =IFERROR(IF(OR(G46=0,G46=""),C46*D46*F46,D46*G46),0) -> 0 | I46: =IF(OR(E46=S$2,E46=S$3,E46=S$4),H46,0) -> 0 | J46: =IF(OR(E46=S$5,E46=S$6,E46=S$7,E46=S$8,E46=S$9),H46,0) -> 0 | K46: =IF(OR(E46=S$2,E46=S$3,E46=S$4),C46*D46,0) -> 0 | L46: =IF(OR(E46=S$5,E46=S$6,E46=S$7,E46=S$8,E46=S$9),C45*D46,0) -> 0 | V46: =IF($E46=V$30,$K46,0) -> 0 | W46: =IF($E46=W$30,$K46,0) -> 0 | X46: =IF($E46=X$30,$K46,0) -> 0 | Y46: =IF($E46=Y$30,$L46,0) -> 0 | Z46: =IF($E46=Z$30,$L46,0) -> 0 | AA46: =IF($E46=AA$30,$L46,0) -> 0 | AB46: =IF($E46=AB$30,$L46,0) -> 0 | AC46: =IF($E46=AC$30,$L46,0) -> 0 | AE46: =IF($E46=AE$30,$H46,0) -> 0 | AF46: =IF($E46=AF$30,$H46,0) -> 0 | AG46: =IF($E46=AG$30,$H46,0) -> 0 | AH46: =IF($E46=AH$30,$H46,0) -> 0 | AI46: =IF($E46=AI$30,$H46,0) -> 0 | AJ46: =IF($E46=AJ$30,$H46,0) -> 0 | AK46: =IF($E46=AK$30,$H46,0) -> 0 | AL46: =IF($E46=AL$30,$H46,0) -> 0
...

Sheet Time Based Fee - Alternate
B3: Insert logo
A11: Professional Fees – Architectural Service
D13: =Cover!F13 -> 45483
A15: Project | B15: =IF(Cover!C17="","",Cover!C17)
A17: Address | B17: =IF(Cover!C19="","",Cover!C19)
B20: Work Stages | C20: Fees
A22: Stage 1. Inception : R | C22: =IFERROR(IF(OR('Data & Calc Sheet'!H$21="",'Data & Calc Sheet'!H$21=0),0,'Data & Calc Sheet'!C58),0) -> 0
A23: Stage 2. Concept & Viability : R | C23: =IFERROR(IF(OR('Data & Calc Sheet'!H$21="",'Data & Calc Sheet'!H$21=0),0,'Data & Calc Sheet'!C59),0) -> 0
A24: Stage 3. Design Development : R | C24: =IFERROR(IF(OR('Data & Calc Sheet'!H$21="",'Data & Calc Sheet'!H$21=0),0,'Data & Calc Sheet'!C60),0) -> 0
A25: Stage 4.1 Local Authority Submissions : R | C25: =IFERROR(IF(OR('Data & Calc Sheet'!H$21="",'Data & Calc Sheet'!H$21=0),0,'Data & Calc Sheet'!C61),0) -> 0
A26: Stage 4.2 Call for Tenders : R | C26: =IFERROR(IF(OR('Data & Calc Sheet'!H$21="",'Data & Calc Sheet'!H$21=0),0,'Data & Calc Sheet'!C62),0) -> 0
A27: Stage 5 Construction : R | C27: =IFERROR(IF(OR('Data & Calc Sheet'!H$21="",'Data & Calc Sheet'!H$21=0),0,'Data & Calc Sheet'!C63),0) -> 0
A28: Stage 6. Close Out : R | C28: =IFERROR(IF(OR('Data & Calc Sheet'!H$21="",'Data & Calc Sheet'!H$21=0),0,'Data & Calc Sheet'!C64),0) -> 0
B30: Sub-Total : R | C30: =SUM(C22:C28) -> 0 | D30: excl. VAT
B32: Additional Services
A34: Special Design Services : R | C34: =IFERROR(IF(OR('Data & Calc Sheet'!H$21="",'Data & Calc Sheet'!H$21=0),0,'Time Based Service - Alternate'!K121),0) -> 0
A35: Special Management Services : R | C35: =IFERROR(IF(OR('Data & Calc Sheet'!H$21="",'Data & Calc Sheet'!H$21=0),0,'Time Based Service - Alternate'!K122),0) -> 0
A36: Special Studies : R | C36: =IFERROR(IF(OR('Data & Calc Sheet'!H$21="",'Data & Calc Sheet'!H$21=0),0,'Time Based Service - Alternate'!K123),0) -> 0
A37: Special Submissions to Statutory Authorities : R | C37: =IFERROR(IF(OR('Data & Calc Sheet'!H$21="",'Data & Calc Sheet'!H$21=0),0,'Time Based Service - Alternate'!K124),0) -> 0
A38: Work on Existing Premises : R | C38: =IFERROR(IF(OR('Data & Calc Sheet'!H$21="",'Data & Calc Sheet'!H$21=0),0,'Time Based Service - Alternate'!K125),0) -> 0
A39: Other Services : R | C39: =IFERROR(IF(OR('Data & Calc Sheet'!H$21="",'Data & Calc Sheet'!H$21=0),0,'Time Based Service - Alternate'!K126),0) -> 0
B41: Sub-Total : R | C41: =SUM(C34:C39) -> 0 | D41: excl. VAT
B43: Sub-Total : | C43: =C30+C41 -> 0 | D43: excl. VAT
B44: Discount : | C44: =IFERROR(C43*'Time Based Service - Alternate'!C16,0) -> 0 | D44: =IF(OR('Time Based Service - Alternate'!C16="",'Time Based Service - Alternate'!C16=0),"",CONCATENATE(" @ ",'Time Based Service - Alternate'!C16*100," %"))
B45: Sub-Total : R | C45: =(C43-C44) -> 0 | D45: excl. VAT
B46: VAT : R | C46: =IFERROR(C45*'Time Based Service - Alternate'!C19%,0) -> 0 | D46: =_xlfn.CONCAT(" @ ",'Time Based Service - Alternate'!C19," %") -> @ 15 %
B47: Total Fee : R | C47: =SUM(C45,C46) -> 0
A49: =Disclaimer!A7 -> Copyright © 2025 - M. Keuter - Some Rights Reserved

Sheet Time Based Fee - Alternate_(Per
B3: Insert logo
A11: Professional Fees – Architectural Service
D13: =Cover!F13 -> 45483
A15: Project | B15: =IF(Cover!C17="","",Cover!C17)
A17: Address | B17: =IF(Cover!C19="","",Cover!C19)
B20: Work Stages | C20: Rate / Sqm
A22: Stage 1. Inception : R | C22: =IFERROR(IF(OR('Data & Calc Sheet'!H$21="",'Data & Calc Sheet'!H$21=0),0,'Time Based Service - Alternate'!K220),0) -> 0
A23: Stage 2. Concept & Viability : R | C23: =IFERROR(IF(OR('Data & Calc Sheet'!H$21="",'Data & Calc Sheet'!H$21=0),0,'Time Based Service - Alternate'!K221),0) -> 0
A24: Stage 3. Design Development : R | C24: =IFERROR(IF(OR('Data & Calc Sheet'!H$21="",'Data & Calc Sheet'!H$21=0),0,'Time Based Service - Alternate'!K222),0) -> 0
